BEGIN:VCALENDAR
VERSION:2.0
PRODID:-//Super - ECPv6.1.3//NONSGML v1.0//EN
CALSCALE:GREGORIAN
METHOD:PUBLISH
X-ORIGINAL-URL:https://www.superfestival.ro
X-WR-CALDESC:Events for Super
REFRESH-INTERVAL;VALUE=DURATION:PT1H
X-Robots-Tag:noindex
X-PUBLISHED-TTL:PT1H
BEGIN:VTIMEZONE
TZID:Europe/Helsinki
BEGIN:DAYLIGHT
TZOFFSETFROM:+0200
TZOFFSETTO:+0300
TZNAME:EEST
DTSTART:20170326T010000
END:DAYLIGHT
BEGIN:STANDARD
TZOFFSETFROM:+0300
TZOFFSETTO:+0200
TZNAME:EET
DTSTART:20171029T010000
END:STANDARD
TZID:Europe/Paris
BEGIN:DAYLIGHT
TZOFFSETFROM:+0100
TZOFFSETTO:+0200
TZNAME:CEST
DTSTART:20170326T010000
END:DAYLIGHT
BEGIN:STANDARD
TZOFFSETFROM:+0200
TZOFFSETTO:+0100
TZNAME:CET
DTSTART:20171029T010000
END:STANDARD
TZID:Europe/Moscow
BEGIN:STANDARD
TZOFFSETFROM:+0300
TZOFFSETTO:+0300
TZNAME:MSK
DTSTART:20170101T000000
END:STANDARD
TZID:UTC
BEGIN:STANDARD
TZOFFSETFROM:+0000
TZOFFSETTO:+0000
TZNAME:UTC
DTSTART:20160101T000000
END:STANDARD
END:VTIMEZONE
BEGIN:VEVENT
DTSTART;TZID=Europe/Helsinki:20170527T180000
DTEND;TZID=Europe/Helsinki:20170527T200000
DTSTAMP:20260424T134828
CREATED:20170508T183147Z
LAST-MODIFIED:20170515T175754Z
UID:933-1495908000-1495915200@www.superfestival.ro
SUMMARY:Proiecțiile Super 2017: Competiție | România & Moldova 2
DESCRIPTION:Competiție | România și Republica Moldova  \n  \nCalupul 2: Sâmbătă\, 27 mai\, ora 18:00\, Cinema Elvira Popescu \n  \nDiogene | Mircea Alexandru | 5.23 | Cernavodă \nUn tânăr se află într-o stare critică. Nimic nu e ceea ce pare. Cât de departe va ajunge totul? \n  \nDon’t open the door | Luca Ștefan Vasile Berde | 05.08 | București \nÎntr-o noapte\, un adolescent primește mesaje care îi spun să nu deschidă ușa. Imediat după\, aude trei ciocănituri zgomotoase și o voce de bărbat strigând să deschidă. \n\nHuman  | Ioana Staicu | 2.13 | București \nUn documentar despre antiziganism. \n  \nUn film despre un cântec | Elena Vataman – Mărgineanu | 3.37 | Chișinău \nPovestea străbunicii regizoarei\, care trăiește singură într-o regiune din fosta Basarabie\, cântându-și singurătatea.  \n  \nOra a treia | Alin Ciuchi și Elena Dumitru | 13.20 | Piatra Neamț \nCuvântul uneşte 5 tineri în aparenţă diferiţi. Vor reuşi ei oare să scrie o poveste care să ilustreze fericirea în cea mai pură formă a sa? \n\nDescărcat | Bogdan Iancu şi Iustin Frujină | 11.13 | București \nPortretul unui adolescent care trece\, într-o zi\, prin mai multe evenimente şi momente care îi conturează caracterul. \nDR. | Paul Dogioiu | 7.50 | București \nElena Cristescu și fiul său\, Radu\, pleacă în grabă de acasă. Sub presiunea întârzierii iminente\, „dialogul” dintre cei doi scoate la iveală frustrări\, prejudecăți și ură. \n\nSe poate viziona în mod portret | Ștefan Iordache | 6.16 | Pitești \nNiciun timp\, niciun spațiu\, un personaj… De fapt\, niciun personaj- Se poate viziona în mod portret. 
URL:https://www.superfestival.ro/event/proiectiile-super-2017-competitie-romania-moldova-2/
LOCATION:Cinema Elvira Popescu\, Bulevardul Dacia 77\, Bucharest\, Romania
CATEGORIES:Evenimente
ATTACH;FMTTYPE=image/jpeg:https://www.superfestival.ro/wp-content/uploads/2017/05/AFIS2-1-e1540911732679.jpg
END:VEVENT
BEGIN:VEVENT
DTSTART;TZID=Europe/Helsinki:20170526T220000
DTEND;TZID=Europe/Helsinki:20170527T030000
DTSTAMP:20260424T134828
CREATED:20170508T182948Z
LAST-MODIFIED:20170513T094445Z
UID:930-1495836000-1495854000@www.superfestival.ro
SUMMARY:Petrecere de deschidere Super 2017
DESCRIPTION:26 mai\, 22:00 -Petrecere de deschidere și concert Miruna Maria- MOTIV
URL:https://www.superfestival.ro/event/petrecere-de-deschidere-super-2017/
LOCATION:MOTIV\, Calea Victoriei 48\, Bucharest\, Romania
CATEGORIES:Evenimente
ATTACH;FMTTYPE=image/jpeg:https://www.superfestival.ro/wp-content/uploads/2017/05/AFIS2-1-e1540911732679.jpg
END:VEVENT
BEGIN:VEVENT
DTSTART;TZID=Europe/Helsinki:20170526T203000
DTEND;TZID=Europe/Helsinki:20170526T220000
DTSTAMP:20260424T134828
CREATED:20170508T182637Z
LAST-MODIFIED:20170508T183223Z
UID:926-1495830600-1495836000@www.superfestival.ro
SUMMARY:Proiecțiile Super 2017: Competiție | România & Moldova 1
DESCRIPTION:Competiție | România și Republica Moldova  \n  \nCalupul 1: Vineri\, 26 mai\, ora 20:30\, Cinema Elvira Popescu \n  \nBossa River | Maia Petringenaru Van Kline | 2.00 | București \nO animație stop-cadru despre un subiect vechi „ca lumea” – o fată iubea un băiat. \n\nBoss Fight | Cristian Ionuț Necula | 02.56 | Ploiești  \nÎntr-o zi\, un tânăr ia parte la un interviu pentru primul loc de muncă pe care îl va avea vreodată\, dar când intră în biroul angajatorului\, își dă seama că fața omului îi este familiară.  \n\nChristmas of 95′ | Vlad Acatincăi | 5.38 | Mangalia  \nO scurtă animație despre sărbătoarea Crăciunului și diferența dintre generații\, făcută în stilul original al desenelor animate din anii ’40 si ’90.  \n\nThe Mandarin | Petre Cristian Zalomir | 4.33  | Deva \nUn băiat se îndrăgostește de o mandarină. Când aceasta este răpită de către o portocală\, băiatul pleacă într-o aventură. \n  \nMicul Prinț | Karina Bălan\, Mălina Ardeleanu | 2.44 | București   \nMicul Prinț se întâlnește cu aviatorul\, povestea prieteniei lor desfășurând-se. \n  \nCina | Lucian Bădărău\, Fabian Buță | 2.46 | Timișoara  \nO tânără ia parte la o cină în familie și este prezentată familiei iubitului ei. \n  \nBun rămas\, azi te las | Diana Smeu | 11.41 | Bacău  \nBâlciul este locul pentru care trebuie să dai orice ca să ajungi. \n  \nInis | Alexandra Dumitrana\, Ingrid Enache | 7.17 | Constanța  \nPovestea unui scriitor și încercarea lui de a realiza opera de artă desăvârșită. Poate fi absolutul atins? \n  \nQvartet | Yan Tashtoush | 14.16 | București \nSpre nefericirea mamei ei\, Maria\, o adolescentă tulburată\, corespondează cu un duhovnic.  \n(În afara competiției) \n 
URL:https://www.superfestival.ro/event/super-2017-competitie-romania-moldova-1/
LOCATION:Cinema Elvira Popescu\, Bulevardul Dacia 77\, Bucharest\, Romania
CATEGORIES:Evenimente
ATTACH;FMTTYPE=image/jpeg:https://www.superfestival.ro/wp-content/uploads/2017/05/AFIS2-1-e1540911732679.jpg
END:VEVENT
BEGIN:VEVENT
DTSTART;TZID=Europe/Helsinki:20170526T180000
DTEND;TZID=Europe/Helsinki:20170526T200000
DTSTAMP:20260424T134828
CREATED:20170508T182227Z
LAST-MODIFIED:20170508T182742Z
UID:922-1495821600-1495828800@www.superfestival.ro
SUMMARY:Proiecțiile Super 2017: Deschidere Oficială și Competiția Internațională 1
DESCRIPTION:Competiția Internațională  \n\nCalupul 1: Vineri\, 26 mai\, ora 18:00\, Cinema Elvira Popescu  \n  \nThe Boys | Tanner Charnstrom | 7.51  | USA |  \nMutarea într-o nouă casă. În vârtejul asistenţei maternale\, doi fraţi se hotărăsc să evadeze.  \n  \nSummer Citrus | Nico Fulton Lavachek | 10.19 | USA  \nJohn şi Oliver strâng bani pentru o piscină gonflabilă\, vânzând limonadă. Totuşi\, limonada concurenţei este mult prea delicioasă. \n\nAgoura\, the Wrath of God | Adam Karp | 13 | USA \nOdată cu întoarcerea sa în orașul său natal\, Isaac Franklin crede că a făcut tot ce se putea face pentru a se distanța de trecut. Totul este dat peste cap când ajunge să ia cina cu un coleg de clasă cu care nu a mai vorbit și la care nu s-a mai gândit de ani buni. \n\nPotholes | Jaclyn Goldstein | 3.56 | USA  \nO sesiune târzie de golf se complică atunci când trei iubitoare de paste dau peste cineva neașteptat. \n\nWish you were here | Jenna Krumerman | 1.13 | USA  \nO fată ia prânzul cu niște prieteni. \n\nThe Evil Squibare From Mars!! | Oliver Marsden | 7.10 | Australia  \nEste 1983\, Dave este dat dispărut\, iar doi băieți din suburbie au misiunea de a-l găsi viu sau mort. \n  \nThe Goddaughter | Jared Goudsmit | 18.11  \nUn copil de grădiniță cu tendințe machiavelice reușește să urce pe scara manipulării până în vârful piramidei ierarhice a școlii lui. \n  \nAfter Yesterday | Andrew Brewster | 13.50 | USA \nPovestea lui Harris Tray și a încercărilor sale de a își îmbunătăți relațiile cu nepoata sa\, în pofida problemelor mintale. \n\nJimmy the Limo Driver | Brendan Hickey | 5.21 | USA \nJimmy\, un adolescent inadaptat social\, este provocat la un duel după ce calcă din greșeală pisica unui bătăuș care cunoaște arte marțiale. \n\nBright and Early | Emma Siegel | 5.31 | USA \n„Uneori o schimbare este bună totuşi.” Două prietene încearcă să-și reconcilieze întâlnirea la o petrecere.
URL:https://www.superfestival.ro/event/super-2017-deschidere-oficiala-si-competitia-internationala-1/
LOCATION:Cinema Elvira Popescu\, Bulevardul Dacia 77\, Bucharest\, Romania
CATEGORIES:Evenimente
ATTACH;FMTTYPE=image/jpeg:https://www.superfestival.ro/wp-content/uploads/2017/05/AFIS2-1-e1540911732679.jpg
END:VEVENT
BEGIN:VEVENT
DTSTART;TZID=Europe/Paris:20170525T190000
DTEND;TZID=Europe/Paris:20170525T233000
DTSTAMP:20260424T134828
CREATED:20170508T181742Z
LAST-MODIFIED:20170517T090118Z
UID:918-1495738800-1495755000@www.superfestival.ro
SUMMARY:Expoziția Super 2017: SHAME
DESCRIPTION:Pictură | Fotografie | Desen | Grafică | Instalație | Colaj \nVernisaj: Joi\, 25 mai\, ora 19:00 \nDonație sugerată pentru festival: 10 lei. \nArtiști:\nSmaranda Rusinaru\, Mara Petcana\, Ana Ionescu\, Anca Tomescu\, Alexandra Costin\, Anca Matei\, Thea Puscaru\, Silvia Papara\, Luca Cosmin\, Arina Cazac\, Luiza Pomohaci\, Iulia Bucuresteanu\, Cosmin Stancu\, Andrei Reg\, Mihaela-Elena Man\, Andra Smalenic\, Irisz Kovacs\, Arina Kovacs\, Andreea Cristea\, Maria Staicu\, Sara Pongrac\, Alex Petrican\, Matei Dragomir\, Iulia Chirita\, Luca Calaras\, Alexandra Müller\, Ana Pascu\, Ioana Vallimarescu\, Valentina Ivorciuc\, Catalina Ungureanu\, Theodor Niculae\, Cristina Cretu\, Iulia Enkelana\, Ana-Maria Ivancea\, Giulia Huțanu\, Radu Tanasa\, Theodora Uta\, Beatrice Duman\, Mara Paizan\, Ilinca Alecsa\, Maia Petringearu\, Ana-Maria Baescu\, Diana Onu\, Matei Demetriad.
URL:https://www.superfestival.ro/event/expozitia-super-2017-shame/
LOCATION:Rezidența BRD Scena9\, I. L. Caragiale 32\, Bucharest\, Romania
CATEGORIES:Evenimente
ATTACH;FMTTYPE=image/jpeg:https://www.superfestival.ro/wp-content/uploads/2017/05/AFIS2-1-e1540911732679.jpg
END:VEVENT
BEGIN:VEVENT
DTSTART;TZID=Europe/Moscow:20170520T210000
DTEND;TZID=Europe/Moscow:20170521T030000
DTSTAMP:20260424T134828
CREATED:20170515T183806Z
LAST-MODIFIED:20170515T184220Z
UID:1168-1495314000-1495335600@www.superfestival.ro
SUMMARY:SUPERcapitol: The party
DESCRIPTION:Are you dressed for a SUPERparty? \nRevista SUBCAPITOL și Festivalul SUPER organizează o superpetrecere la Mătăsari Home\, sâmbăta asta\, de la ora 21:00 pentru colaboratorii\, prietenii și necunoscuții care vor să le devină prieteni. Am pregătit câteva surprize și un playlist care să rămână cu noi pănă după dimineață. \nIntrarea e liberă.
URL:https://www.superfestival.ro/event/supercapitol-the-party/
LOCATION:Mătăsari Home\, Strada Mătăsari 17\, București\, Romania
CATEGORIES:Evenimente
ATTACH;FMTTYPE=image/jpeg:https://www.superfestival.ro/wp-content/uploads/2017/05/18491569_1517039211670905_181574092322016730_o.jpg
END:VEVENT
BEGIN:VEVENT
DTSTART;TZID=UTC:20170518T190000
DTEND;TZID=UTC:20170518T220000
DTSTAMP:20260424T134828
CREATED:20170515T190823Z
LAST-MODIFIED:20170515T192755Z
UID:1177-1495134000-1495144800@www.superfestival.ro
SUMMARY:Cinemateca Super: Duel in the Sun
DESCRIPTION:Ne face plăcere să anunțăm primul eveniment organizat de Super în colaborare cu TVR 2\, ”Super Cinemateca”!\nVom începe acest parteneriat prin proiecția filmului ”Duel in the Sun” (1946)\, în incinta clădirii iconice a Televiziunii Române. Proiecția este urmată de o dezbatere moderată de Laurențiu Damian și Radu F. Alexandru.Melodrama western urmărește povestea lui Pearl Chavez (Jennifer Jones)\, o femeie metisă care\, după moartea tatălui ei\, este captivată într-un triunghi amoros împreună cu doi frați\, Lewton și Jesse McCanles (Joseph Cotten și Gregory Peck).\nPrimul film văzut vreodată de Martin Scorsese\, ”Duel in the Sun” poate fi privit drept un film blestemat\, orchestrat în principal de renumitul producător american David O. Selznick (participând aici și ca scenarist\, cât și ca regizor necreditat). Deși este un film care a trecut prin mâinile a nu mai puțin de 8 regizori (printre care putem să-l remarcăm pe Josef Von Sternberg)\, el poartă semnătura lui King Vidor (”The Fountainhead”\, ”The Big Parade”).”Filmul de Artă” și ”TeleCinemateca” sunt două proiecte emblematice ale TVR și prin misiunea sa\, Festivalul Super își dorește ca ele să ajungă cât mai aproape de adolescenți. Am vrea ca prin intermediul acestei colaborări să promovăm abordări curajoase în cinematografie\, dar și să aducem împreună generații diferite de cinefili. \n!!!  \n\nRezervarea locurilor se face prin mail la adresa superfilmfestival@yahoo.com și este necesară pentru accesul în incinta clădirii TVR.
URL:https://www.superfestival.ro/event/cinemateca-super-duel-in-the-sun/
LOCATION:TVR 2\, București\, Romania
CATEGORIES:Evenimente
ATTACH;FMTTYPE=image/jpeg:https://www.superfestival.ro/wp-content/uploads/2017/04/18424233_730567210401178_8116625003686043239_n.jpg
END:VEVENT
BEGIN:VEVENT
DTSTART;TZID=Europe/Helsinki:20170508T160000
DTEND;TZID=Europe/Helsinki:20170508T193000
DTSTAMP:20260424T134828
CREATED:20170506T132024Z
LAST-MODIFIED:20170506T132736Z
UID:876-1494259200-1494271800@www.superfestival.ro
SUMMARY:Super Warm-up 2017: Proiecţie şi Dezbatere "The Other Side of Hope"
DESCRIPTION:Mai e foarte puţin până la a 5-a ediţie a festivalului Super de filme făcute de adolescenţi. Ca de obicei\, noi\, unii\, nu prea mai avem răbdare\, aşa că vrem să vă introducem şi pe voi în spiritul festivalului încă de pe acum cu o serie de evenimente de warm-up. Hai să ne cunoaştem şi să nerăbdăm împreună. \nLuni\, 8 mai\, la ora 4:00 P.M.\, avem marea plăcere să organizăm o proiecţie specială pentru Super şi o dezbatere a ultimului film al regizorului finlandez Aki Kaurismäki\, “The Other Side of Hope”\, la Institutul Cultural Român (Aleea Alexandru\, nr. 38) în cadrul Festivalului Filmului European (4-11 mai).\nDetalii film: http://ffe.ro/2017/programfilme/cealalta-parte-a-sperantei/ \nDespre film şi despre regizor\, de pe site-ul prietenilor noştri de la Festivalul Filmului European:\n“Filmul spune povestea lui Khaled\, un refugiat sirian care ajunge în Helsinki\, unde speră să obţină azil. Cererea lui este respinsă şi\, astfel\, este nevoit să trăiască pe străzi. Drumul i se intersectează cu cel al unui excentric vânzător ambulant şi devenim martorii unei prietenii neobişnuite între doi oameni provenind din lumi diferite.\n“Cealaltă parte a speranţei” este filmul de gală al ediţiei actuale a Festivalului Filmului European\, el deschizând festivalul în toate cele cinci oraşe: Bucureşti\, Iaşi\, Gură Humorului\, Tîrgu Mureş şi Timişoara.\nAki Olavi Kaurismäki\, regizor şi scenarist finlandez\, născut pe 4 aprilie 1957. După ce a făcut studii de media la Universitatea din Tampere\, şi-a început carieră de co-scenarist şi actor în filmele fratelui mai mare\, Mika Kaurismäki. A debutat că regizor cu filmul Crimă şi Pedeapsa (1983)\, o adaptare a romanului lui Dostoievski la vremurile noastre. A devenit faimos datorită filmului Leningrad Cowboys Go America (1989). The Man Without a Past (2002)\, al doilea film al trilogiei Finland\, a fost nominalizat la Oscar şi premiat de juriul de la Cannes. Cealaltă parte a speranţei este al doilea film din seria „oraşe port/port city”\, după Le Havre (2011)\, pelicula ce a deschis FFE în 2012 “ \nProiecția filmului se va face prin bunăvoința INDEPENDENŢA FILM și va dura 98 de minute\, iar dezbaterea va dura în jur de 60 de minute. \nModerator: Petru Roşu\nVorbitori: Maria Mălcică\nVlad Panait \n*DISCLAIMER SIMPATIC CARE VĂ INTERESEAZĂ*: Dezbaterea va fi o discuţie liberă\, deschisă şi pe înţelesul tuturor asupra temelor propuse de film. Atât moderatorul\, cât şi vorbitorii vin numai în calitatea lor de adolescenţi cinefili. Cu alte cuvinte\, nu vă invităm la o dezbatere academică\, ci la o discuţie ca între prieteni. \nFestivalul Filmului European este organizat de Institutul Cultural Român\, sub egida EUNIC România\, împreună cu Reprezentanța Comisiei Europene\, cu sprijinul ambasadelor și centrelor culturale europene\, al Muzeului Național de Artă\, al Muzeului Țăranului Român/Cinema Muzeul Țăranului\, al Institutului Francez – Cinema Elvire Popesco\, al Centrului Ceh\, al Institutului Cervantes\, al Spațiului Public European\, al UCIN și al Biroului de Informare al Parlamentului European.
URL:https://www.superfestival.ro/event/super-warm-up-2017-proiectie-si-dezbatere-the-other-side-of-hope/
LOCATION:Institutul Cultural Român
CATEGORIES:Evenimente
ATTACH;FMTTYPE=image/jpeg:https://www.superfestival.ro/wp-content/uploads/2017/05/18193333_723137591144140_6137215733981569581_o-e1540911555617.jpg
END:VEVENT
BEGIN:VEVENT
DTSTART;TZID=UTC:20160519T183000
DTEND;TZID=UTC:20160519T233000
DTSTAMP:20260424T134828
CREATED:20170501T115056Z
LAST-MODIFIED:20170501T115205Z
UID:794-1463682600-1463700600@www.superfestival.ro
SUMMARY:Expoziție colectivă SUPERREALISM
DESCRIPTION:ᔕᑌᑭᕮᖇᖇᕮᗩᒪIᔕᗰ: ᙓ᙭ᑭOᘔIȚIᙓ ᙅOᒪᙓᙅTIᐯĂ\n▓ pictură ▓ fotografie ▓ desen ▓ grafică ▓ instalații ▓ colaj ▓ \n▼ Vernisaj: joi\, 19 mai\, ora 18:30 + afterparty\n*Pentru vernisaj (pentru joi\, 19 mai)\, NU ESTE NEVOIE DE REZERVARE. \n▲ Expoziția se poate vizita între 20 și 22 (mai) cu rezervare\, printr-un mail cu titlul „vreau la expo!”\, data si ora rezervarii la /// superfestival@outlook.com \\\ \n▼ Donație sugerată pentru festival: 10 lei. \n▲ Program vernisaj:\n⊅ 18:30\nDeschiderea \n⊅ 18:30 – 19:45\nMihai Bălăcescu\nhttps://soundcloud.com/btws24/tracks \n⊅ 20:00 – 20:20\npiesa de teatru „Exprimare în gol” \n⊅ 20:30 – 22:00\n:PATROCLE PETRONOM: \n\n>22:00 (after)\n:ȘAP K: \n\n▼ Artiști:\n░ Alexe Elena ░ Alia Serban ░ Arusilor Isabelle-Maria ░ Badea Andreea ░ Băleanu Andrada ░ Balta Alexandra-Roberta ░ Bădoi Mădălina ░ Bârjovanu Anca ░ Berari Raul ░ Bolobita Timeea-Maria ░ Buhagiar Alma ░ Calaras Luca Bogdan ░ Canghizer Diana ░ Radu Carp ░ Cohn Mara ░ Cristea Andreea ░ Cristian Rucsandra Oana ░ Delia Laura Maria ░ Demeter Gabriel ░ Drăgulinescu Alexandra ░ Duman Beatrice ░ Eremia Nora ░ Farkas Kinga-Timea ░ Ferăstrău Bianca ░ Florian Luca ░ Frania Sebe ░ Fratele meu Bartolomew ░ Gemanar Ioana ░ Gherman Georgiana ░ Teo Dormi ░ Grama Alexandra ░ Grigore Diana ░ Ionescu Ana ░ Ionescu Andreea ░ Ispas Alina ░ Luca Ioana ░ Lumpan Andrei ░ Man Mihaela Elena ░ Mancu Oana ░ Mare Tudor ░ Marinescu Maria ░ Milescu Raluca ░ Omine Harumi ░ Petrican Alexandru ░ Popescu Simina ░ Prisecaru Andreea ░ Polistiren ░ REG Andrei ░ Săvuțiu Laura ░ Silivestru Nicoleta ░ Smileanschi Andra ░ Staicu Maria ░ Stan Valentina ░ Stancu Andrei-Cosmin ░ Ştefănescu Cornelia ░ Tabacu Agata ░ Manuil A. ░ Vlad Bianca ░ \n————-\n▦ Expoziția are loc în cadrul festivalului de filme făcute de adoescenți „Super!” (PROGRAM ÎNTREG AICI: http://superfestival.ro/ro/festival-program.html )\n————-\n▦ „Super!” este realizat cu sprijinul: Centrul național al cinematografiei și Asociația Documentor\n▦ Partener Oficial „Super!”: RedBull\n▦ Parteneri „Super!” 2016: Pegas\, Breakout Escape Rooms\, Asociația Accept\, Spațiul Public European\, Institutul Francez\, Institutul Goethe\, GreenHours\, ICR\, Student Consulting\, Vira Films\, MUBI\, Filmmic\, Festivalul Dorna Art\, Plant-up\, Inspectoratul Școlar București\, Canon\n▦ Parteneri Media: Sub25\, Revista LZR\, Cinemagia\, Cațavencii\, Metropotam\, Șapte Seri\, Oitzarisme\, LiterNet\, Re-forma\, Plic\, o revistă\, Acoperișul de sticlă\, RFI România\, All About Romanian Cinema\, Radio România Cultural\, Think Outside the Box\, TeenPress\, Decât o revistă\, veiozaarte.ro\, MovieNews.ro\, Bitul Liber\, Iqool\, Dissolved Magazine\, Societate și Cultură\, SUBCAPITOL\, Student IQ MemoPlus.
URL:https://www.superfestival.ro/event/expozitie-colectiva-superrealism/
LOCATION:Universu\, str. Scoalei 8\, Bucharest\,\, 020964\, Romania
CATEGORIES:Evenimente
ATTACH;FMTTYPE=image/jpeg:https://www.superfestival.ro/wp-content/uploads/2017/05/13173446_521948491263052-e1540911137822.jpg
END:VEVENT
END:VCALENDAR